BEGIN:VCALENDAR
VERSION:2.0
PRODID:icalendar-ruby
CALSCALE:GREGORIAN
METHOD:PUBLISH
BEGIN:VEVENT
DTSTAMP:20260422T093727Z
UID:5-679138@nl-bc.org
DTSTART:20261025T173000Z
DTEND:20261025T183000Z
CLASS:PUBLIC
CREATED:20260421T181433
DESCRIPTION:Sunday Worship
LAST-MODIFIED:20260421T181433
LOCATION:
SUMMARY:Sunday Worship
URL;VALUE=URI:https://nl-bc.org/events/sunday-worship/2026-10-25
END:VEVENT
END:VCALENDAR
