BEGIN:VCALENDAR
VERSION:2.0
PRODID:icalendar-ruby
CALSCALE:GREGORIAN
METHOD:PUBLISH
BEGIN:VEVENT
DTSTAMP:20260421T232814Z
UID:5-678561@nl-bc.org
DTSTART:20260913T173000Z
DTEND:20260913T183000Z
CLASS:PUBLIC
CREATED:20260421T153544
DESCRIPTION:Sunday Worship
LAST-MODIFIED:20260421T153544
LOCATION:
SUMMARY:Sunday Worship
URL;VALUE=URI:https://nl-bc.org/events/sunday-worship/2026-09-13
END:VEVENT
END:VCALENDAR
