BEGIN:VCALENDAR
VERSION:2.0
PRODID:icalendar-ruby
CALSCALE:GREGORIAN
METHOD:PUBLISH
BEGIN:VEVENT
DTSTAMP:20260421T183051Z
UID:5-677416@nl-bc.org
DTSTART:20260823T173000Z
DTEND:20260823T183000Z
CLASS:PUBLIC
CREATED:20260421T102131
DESCRIPTION:Sunday Worship
LAST-MODIFIED:20260421T102131
LOCATION:
SUMMARY:Sunday Worship
URL;VALUE=URI:https://nl-bc.org/events/sunday-worship/2026-08-23
END:VEVENT
END:VCALENDAR
